BEGIN:VCALENDAR
VERSION:2.0
PRODID:icalendar-ruby
CALSCALE:GREGORIAN
METHOD:PUBLISH
BEGIN:VEVENT
DTSTAMP:20260424T183501Z
UID:5-408450@noonday.tithelysetup2.com
DTSTART:20261101T183000Z
DTEND:20261101T193000Z
CLASS:PUBLIC
CREATED:20260422T193939
DESCRIPTION:Sunday Worship
LAST-MODIFIED:20260422T193939
LOCATION:
SUMMARY:Sunday Worship
URL;VALUE=URI:https://noonday.tithelysetup2.com/events/sunday-worship/2026-
 11-01
END:VEVENT
END:VCALENDAR
