BEGIN:VCALENDAR
VERSION:2.0
PRODID:icalendar-ruby
CALSCALE:GREGORIAN
METHOD:PUBLISH
BEGIN:VEVENT
DTSTAMP:20260423T045355Z
UID:5-408426@noonday.tithelysetup2.com
DTSTART:20260517T173000Z
DTEND:20260517T183000Z
CLASS:PUBLIC
CREATED:20260422T193939
DESCRIPTION:Sunday Worship
LAST-MODIFIED:20260422T193939
LOCATION:
SUMMARY:Sunday Worship
URL;VALUE=URI:https://noonday.tithelysetup2.com/events/sunday-worship/2026-
 05-17
END:VEVENT
END:VCALENDAR
